BEGIN:VCALENDAR
VERSION:2.0
PRODID:-//Heuriger Dreimäderlhaus - ECPv5.3.2.1//NONSGML v1.0//EN
CALSCALE:GREGORIAN
METHOD:PUBLISH
X-WR-CALNAME:Heuriger Dreimäderlhaus
X-ORIGINAL-URL:https://www.heuriger-dreimaederlhaus.at
X-WR-CALDESC:Veranstaltungen für Heuriger Dreimäderlhaus
BEGIN:VTIMEZONE
TZID:Europe/Vienna
BEGIN:DAYLIGHT
TZOFFSETFROM:+0100
TZOFFSETTO:+0200
TZNAME:CEST
DTSTART:20250330T010000
END:DAYLIGHT
BEGIN:STANDARD
TZOFFSETFROM:+0200
TZOFFSETTO:+0100
TZNAME:CET
DTSTART:20251026T010000
END:STANDARD
END:VTIMEZONE
BEGIN:VEVENT
DTSTART;VALUE=DATE:20251127
DTEND;VALUE=DATE:20251216
DTSTAMP:20260422T110934
CREATED:20241215T115505Z
LAST-MODIFIED:20241215T115505Z
UID:3144-1764201600-1765843199@www.heuriger-dreimaederlhaus.at
SUMMARY:Ausg'steckt is'
DESCRIPTION:
URL:https://www.heuriger-dreimaederlhaus.at/termin/ausgsteckt-is-2/
CATEGORIES:Ausg'steckt is'
END:VEVENT
END:VCALENDAR